BEGIN:VCALENDAR
VERSION:2.0
PRODID:-//Ravintola Sohwi, Jyväskylä - ECPv6.15.20//NONSGML v1.0//EN
CALSCALE:GREGORIAN
METHOD:PUBLISH
X-WR-CALNAME:Ravintola Sohwi, Jyväskylä
X-ORIGINAL-URL:https://www.sohwi.fi
X-WR-CALDESC:Tapahtumat Ravintola Sohwi, Jyväskylä
REFRESH-INTERVAL;VALUE=DURATION:PT1H
X-Robots-Tag:noindex
X-PUBLISHED-TTL:PT1H
BEGIN:VTIMEZONE
TZID:Europe/Helsinki
BEGIN:DAYLIGHT
TZOFFSETFROM:+0200
TZOFFSETTO:+0300
TZNAME:EEST
DTSTART:20230326T010000
END:DAYLIGHT
BEGIN:STANDARD
TZOFFSETFROM:+0300
TZOFFSETTO:+0200
TZNAME:EET
DTSTART:20231029T010000
END:STANDARD
BEGIN:DAYLIGHT
TZOFFSETFROM:+0200
TZOFFSETTO:+0300
TZNAME:EEST
DTSTART:20240331T010000
END:DAYLIGHT
BEGIN:STANDARD
TZOFFSETFROM:+0300
TZOFFSETTO:+0200
TZNAME:EET
DTSTART:20241027T010000
END:STANDARD
BEGIN:DAYLIGHT
TZOFFSETFROM:+0200
TZOFFSETTO:+0300
TZNAME:EEST
DTSTART:20250330T010000
END:DAYLIGHT
BEGIN:STANDARD
TZOFFSETFROM:+0300
TZOFFSETTO:+0200
TZNAME:EET
DTSTART:20251026T010000
END:STANDARD
END:VTIMEZONE
BEGIN:VEVENT
DTSTART;TZID=Europe/Helsinki:20240211T130000
DTEND;TZID=Europe/Helsinki:20240310T143000
DTSTAMP:20260421T190010
CREATED:20240117T112014Z
LAST-MODIFIED:20240117T112014Z
UID:2539-1707656400-1710081000@www.sohwi.fi
SUMMARY:Kuumia Aaltoja -teatteri
DESCRIPTION:Koppis! Kippis! Skål! Bon Appetit! = Keep peace ja gigut!\nNyt saa kyytiä vaihdevuodet\, miehet\, naiset ja muut kaiken karvaiset kottaraiset Minna Tuomasen sekä Tarja Matilaisen kynsissä Ravintola Sohwissa. Anne Prokofjeffin kirjoittama karaokebaariin sijoittuva komedia: Kuumia Aaltoja saa ensi-iltansa 11.2.2024 klo 13. \nMuut esitykset: sunnuntaisin 18.2.\, 3.3. ja 17.3. Ravintola Sohwissa klo 13.\nSohwin ovet aukeavat esityspäivinä klo 12. Voit nauttia esityksen show & dinner -henkisenä kokemuksena\, tai silkkana esityksen riemuna. Ja mikä parasta\, meillä saa laulaa mukana jos siltä tuntuu! \nLiput:\nTasa-arvon nimissä\, liput kaikille 20 € / kpl. \nLippuvaraukset info@toitoitoi.fi tai WhatsApp: 044 231 7510 \nEsityksen kesto: n. 2h väliaikoineen. \nJa tämä pätkähän sopii tasapuolisesti kaikille oletetuille sukupuoleen\, ikään tai kokoon katsomatta!\nSöndag on uusi lördag. Miksi på Svenska? Älkää kyselkö\, vaan nyt lippuja varaamaan ja sassiin. Huom! Vain 3 esitystä + ensi-ilta.\nPus och kram! ❤ \n– Anne A. ja Anne P.
URL:https://www.sohwi.fi/tapahtuma/kuumia-aaltoja-teatteri/
LOCATION:Ravintola Sohwi\, Vaasankatu 21\, Jyväskylä\, 40100\, Suomi
ATTACH;FMTTYPE=image/jpeg:https://www.sohwi.fi/media/img-200-scaled.jpg
END:VEVENT
BEGIN:VEVENT
DTSTART;TZID=Europe/Helsinki:20240218T130000
DTEND;TZID=Europe/Helsinki:20240317T143000
DTSTAMP:20260421T190010
CREATED:20240117T112014Z
LAST-MODIFIED:20240117T112014Z
UID:2543-1708261200-1710685800@www.sohwi.fi
SUMMARY:Kuumia Aaltoja -teatteri
DESCRIPTION:Koppis! Kippis! Skål! Bon Appetit! = Keep peace ja gigut!\nNyt saa kyytiä vaihdevuodet\, miehet\, naiset ja muut kaiken karvaiset kottaraiset Minna Tuomasen sekä Tarja Matilaisen kynsissä Ravintola Sohwissa. Anne Prokofjeffin kirjoittama karaokebaariin sijoittuva komedia: Kuumia Aaltoja saa ensi-iltansa 11.2.2024 klo 13. \nMuut esitykset: sunnuntaisin 18.2.\, 3.3. ja 17.3. Ravintola Sohwissa klo 13.\nSohwin ovet aukeavat esityspäivinä klo 12. Voit nauttia esityksen show & dinner -henkisenä kokemuksena\, tai silkkana esityksen riemuna. Ja mikä parasta\, meillä saa laulaa mukana jos siltä tuntuu! \nLiput:\nTasa-arvon nimissä\, liput kaikille 20 € / kpl. \nLippuvaraukset info@toitoitoi.fi tai WhatsApp: 044 231 7510 \nEsityksen kesto: n. 2h väliaikoineen. \nJa tämä pätkähän sopii tasapuolisesti kaikille oletetuille sukupuoleen\, ikään tai kokoon katsomatta!\nSöndag on uusi lördag. Miksi på Svenska? Älkää kyselkö\, vaan nyt lippuja varaamaan ja sassiin. Huom! Vain 3 esitystä + ensi-ilta.\nPus och kram! ❤ \n– Anne A. ja Anne P.
URL:https://www.sohwi.fi/tapahtuma/kuumia-aaltoja-teatteri-2024-02-18/
LOCATION:Ravintola Sohwi\, Vaasankatu 21\, Jyväskylä\, 40100\, Suomi
ATTACH;FMTTYPE=image/jpeg:https://www.sohwi.fi/media/img-200-scaled.jpg
END:VEVENT
END:VCALENDAR