BEGIN:VCALENDAR
VERSION:2.0
PRODID:-//Ravintola Sohwi, Jyväskylä - ECPv6.15.20//NONSGML v1.0//EN
CALSCALE:GREGORIAN
METHOD:PUBLISH
X-ORIGINAL-URL:https://www.sohwi.fi
X-WR-CALDESC:Tapahtumat Ravintola Sohwi, Jyväskylä
REFRESH-INTERVAL;VALUE=DURATION:PT1H
X-Robots-Tag:noindex
X-PUBLISHED-TTL:PT1H
BEGIN:VTIMEZONE
TZID:Europe/Helsinki
BEGIN:DAYLIGHT
TZOFFSETFROM:+0200
TZOFFSETTO:+0300
TZNAME:EEST
DTSTART:20210328T010000
END:DAYLIGHT
BEGIN:STANDARD
TZOFFSETFROM:+0300
TZOFFSETTO:+0200
TZNAME:EET
DTSTART:20211031T010000
END:STANDARD
BEGIN:DAYLIGHT
TZOFFSETFROM:+0200
TZOFFSETTO:+0300
TZNAME:EEST
DTSTART:20220327T010000
END:DAYLIGHT
BEGIN:STANDARD
TZOFFSETFROM:+0300
TZOFFSETTO:+0200
TZNAME:EET
DTSTART:20221030T010000
END:STANDARD
BEGIN:DAYLIGHT
TZOFFSETFROM:+0200
TZOFFSETTO:+0300
TZNAME:EEST
DTSTART:20230326T010000
END:DAYLIGHT
BEGIN:STANDARD
TZOFFSETFROM:+0300
TZOFFSETTO:+0200
TZNAME:EET
DTSTART:20231029T010000
END:STANDARD
END:VTIMEZONE
BEGIN:VEVENT
DTSTART;TZID=Europe/Helsinki:20220311T223000
DTEND;TZID=Europe/Helsinki:20220311T233000
DTSTAMP:20260425T060248
CREATED:20220223T115842Z
LAST-MODIFIED:20220223T115909Z
UID:2192-1647037800-1647041400@www.sohwi.fi
SUMMARY:Hanhiniemi-Rauhala MAD\, Sohwin Rajatonta Riemua -viikonloppu
DESCRIPTION:Vihdoin väläytellään toiveita rajattomasta elämästä! Sohwissa uutta normaalia juhlitaan Rajatonta Riemua -viikonlopulla 11.-12.3. Viikonloppua tähdittää kaksi odotettua livekeikkaa joista perjantaina koetaan Pauli Hanhiniemen Hanhiniemi-Rauhala MelkoAkustinenDuo ja lauantaina Miljoonasade!\n\nHanhiniemi-Rauhala MAD on herrojen ”Melko Akustinen Duo”\, joka\nsoittaa poimintoja ensinmainitun lauluista Kolmannen naisen\,\nPerunateatterin ja Hehkumonkin ohjelmistoista. Hanhiniemi-Rauhala\nMAD on esiintynyt muutaman vuoden ajan harvakseltaan ja ehkä siksi\nparivaljakon esiintymisessä on aistittavissa usein hilpeää\nseikkailuhenkeä. Akustisen kitaran ja kontrabasson yhteistyö\nkruunataan Melko Sointuvalla kaksiäänisellä laululla; ”Jätkillä on\nkonsepti kunnossa!”\n\nHanhiniemi-Rauhala MelkoAkustinenDuo Sohwissa pe 11.3. klo 22:30\nK-18\nLIPUT MYYNNISSÄ NYT:\nLiput ennakkoon Ravintola Sohwista 13€\nLiput ovelta 15€\n\nTapahtuman kansikuva: Veikko Pyykkö
URL:https://www.sohwi.fi/tapahtuma/hanhiniemi-rauhala-mad-sohwin-rajatonta-riemua-viikonloppu/
LOCATION:Ravintola Sohwi\, Vaasankatu 21\, Jyväskylä\, 40100\, Suomi
ATTACH;FMTTYPE=image/jpeg:https://www.sohwi.fi/media/Kuvaaja-mainittava-Veikko-Pyykko-IMG_1677_2-scaled.jpg
END:VEVENT
END:VCALENDAR