BEGIN:VCALENDAR
VERSION:2.0
PRODID:-//Ravintola Sohwi, Jyväskylä - ECPv6.15.20//NONSGML v1.0//EN
CALSCALE:GREGORIAN
METHOD:PUBLISH
X-ORIGINAL-URL:https://www.sohwi.fi
X-WR-CALDESC:Tapahtumat Ravintola Sohwi, Jyväskylä
REFRESH-INTERVAL;VALUE=DURATION:PT1H
X-Robots-Tag:noindex
X-PUBLISHED-TTL:PT1H
BEGIN:VTIMEZONE
TZID:Europe/Helsinki
BEGIN:DAYLIGHT
TZOFFSETFROM:+0200
TZOFFSETTO:+0300
TZNAME:EEST
DTSTART:20210328T010000
END:DAYLIGHT
BEGIN:STANDARD
TZOFFSETFROM:+0300
TZOFFSETTO:+0200
TZNAME:EET
DTSTART:20211031T010000
END:STANDARD
BEGIN:DAYLIGHT
TZOFFSETFROM:+0200
TZOFFSETTO:+0300
TZNAME:EEST
DTSTART:20220327T010000
END:DAYLIGHT
BEGIN:STANDARD
TZOFFSETFROM:+0300
TZOFFSETTO:+0200
TZNAME:EET
DTSTART:20221030T010000
END:STANDARD
BEGIN:DAYLIGHT
TZOFFSETFROM:+0200
TZOFFSETTO:+0300
TZNAME:EEST
DTSTART:20230326T010000
END:DAYLIGHT
BEGIN:STANDARD
TZOFFSETFROM:+0300
TZOFFSETTO:+0200
TZNAME:EET
DTSTART:20231029T010000
END:STANDARD
END:VTIMEZONE
BEGIN:VEVENT
DTSTART;TZID=Europe/Helsinki:20220520T193000
DTEND;TZID=Europe/Helsinki:20220522T020000
DTSTAMP:20260425T032837
CREATED:20220510T091202Z
LAST-MODIFIED:20220510T091202Z
UID:2249-1653075000-1653184800@www.sohwi.fi
SUMMARY:YLÄKAUPUNGIN YÖ SOHWISSA
DESCRIPTION:Ravintola Sohwi kuuluu perinteisesti osaksi Yläkaupungin Yötä ja niin se on tänäkin Yönä! Myös tänä vuonna Sohwin lavalle astelee monta upeaa artistia\, jotka takaavat tutun Yön hekumallisen tunnelman.\n\nEikä Sohwissa ole Yötä ilman legendaarista burgerikojua! Burgerikoju nousee tuttuun tapaan ravintolan takapihalle tarjoilemaan apetta Yön kukkujille. Burgerikoju palvelee lauantaina klo 18 alkaen ja pyörii niin pitkään kuin burgereita riittää. \nSohwi ja Yö vaan kuuluvat yhteen! \n\n\nYLÄKAUPUNGIN YÖN ARTISTIKATTAUKSEMME:\nPE 20.5. \nklo 19.30–20.15 Usva \nklo 21.00–21.50 Rebekka Holi \nklo 22.45–23.30 Whipping Post \nLA 21.5. \nklo 17.00–17.45 Tango Polero Tarmo Pennanen \nklo 18.15–19.00 Minna Maarit \nklo 19.15–20.45 DJ Art Dictator \nklo 21.15–22.00 Kellari Kostaa \nklo 22.15–23.15 DJ Art Dictator \nklo 23.45–00.30 TINA \nklo 01:12 – 02:00 Ruusuvaara \n  \nVAPAA PÄÄSY!
URL:https://www.sohwi.fi/tapahtuma/ylakaupungin-yo-sohwissa/
LOCATION:Ravintola Sohwi\, Vaasankatu 21\, Jyväskylä\, 40100\, Suomi
CATEGORIES:Yläkaupungin yö
ATTACH;FMTTYPE=image/jpeg:https://www.sohwi.fi/media/P8240975-scaled.jpg
END:VEVENT
END:VCALENDAR